BEGIN:VCALENDAR
VERSION:2.0
PRODID: -//CMS 5.0 //NONSGML //DE
BEGIN:VEVENT
SUMMARY:Pfingst-Gottesdienst des Stammapostels mit Bild-Übertragung aus
  Tafelsig (Südafrika)
DESCRIPTION:
UID:269501@www.nak-nagold.de
LOCATION:Übertragungs-Gemeinden
CATEGORIES:Enzklösterle,Gärtringen,Ebhausen,Gäufelden-Öschelbronn,Egenhausen,Altensteig-Spielberg,Gäufelden-Nebringen,Pfalzgrafenweiler,Simmersfeld,Altensteig,Nufringen,Mötzingen,Nagold,Herrenberg,Jettingen (Württ.),Haiterbach,Horb,Bezirk (ohne Gemeinden),Gottesdienst
X-ORGANIZER:
STATUS:CONFIRMED
CLASS:PUBLIC
DTSTART:20260524T080000Z
DTEND:20260524T080000Z
DTSTAMP:20260421T045549Z
CREATED:20221123T082558Z
LAST-MODIFIED:20260202T130713Z
END:VEVENT
BEGIN:VEVENT
SUMMARY:Gottesdienst für Amtsträger des Bezirksapostels mit Übertragu
 ng aus Fellbach
DESCRIPTION:<p>Gottesdienst für Amtsträger aktiv und i.R. mit Ehepartn
 ern.&nbsp;<br />\nÜbertragung Bezirksapostelbereich Europa</p>\n
UID:330330@www.nak-nagold.de
LOCATION:
CATEGORIES:Ebhausen,Gäufelden-Öschelbronn,Gärtringen,Enzklösterle,Altensteig-Spielberg,Egenhausen,Nufringen,Gäufelden-Nebringen,Simmersfeld,Altensteig,Pfalzgrafenweiler,Mötzingen,Nagold,Herrenberg,Bezirk (ohne Gemeinden),Horb,Haiterbach,Jettingen (Württ.),Gottesdienst
X-ORGANIZER:
STATUS:CONFIRMED
CLASS:PUBLIC
DTSTART:20261011T080000Z
DTEND:20261011T080000Z
DTSTAMP:20260421T045549Z
CREATED:20250206T102524Z
LAST-MODIFIED:20260202T131105Z
END:VEVENT
BEGIN:VEVENT
SUMMARY:Bezirksapostelgottesdienst mit Bildübertragung aus Kempten-Süd
DESCRIPTION:<p>Oster-Gottesdienst. Übertragung Bezirksapostelbereich.</
 p>\n
UID:330331@www.nak-nagold.de
LOCATION:Übertragungs-Gemeinden
CATEGORIES:Bezirk (ohne Gemeinden),Horb,Jettingen (Württ.),Haiterbach,Gottesdienst,Nagold,Herrenberg,Nufringen,Gäufelden-Nebringen,Simmersfeld,Altensteig,Pfalzgrafenweiler,Mötzingen,Gäufelden-Öschelbronn,Ebhausen,Gärtringen,Enzklösterle,Altensteig-Spielberg,Egenhausen
X-ORGANIZER:
STATUS:CONFIRMED
CLASS:PUBLIC
DTSTART:20260405T080000Z
DTEND:20260405T080000Z
DTSTAMP:20260421T045549Z
CREATED:20250206T103525Z
LAST-MODIFIED:20260202T130559Z
END:VEVENT
BEGIN:VEVENT
SUMMARY:Gottesdienst mit Bischof Hübner
DESCRIPTION:<p>Eingeladen sind die Gemeinden Egenhausen und Haiterbach, 
 sowie alle Vorsteher ohne Frauen.</p>\n
UID:343529@www.nak-nagold.de
LOCATION:Pfalzgrafenweiler
CATEGORIES:Altensteig,Pfalzgrafenweiler,Egenhausen,Bezirk (ohne Gemeinden),Haiterbach,Gottesdienst
X-ORGANIZER:
STATUS:CONFIRMED
CLASS:PUBLIC
DTSTART:20260419T073000Z
DTEND:20260419T073000Z
DTSTAMP:20260421T045549Z
CREATED:20250728T065342Z
LAST-MODIFIED:20260319T163259Z
END:VEVENT
BEGIN:VEVENT
SUMMARY:Gottesdienst mit Apostel Martin Schnaufer
DESCRIPTION:<p>Eingeladen sind&nbsp;die Gemeinden Bondorf, Gärtringen, 
 Mötzingen, Nebringen, Öschelbronn und&nbsp;Horb, sowie&nbsp;aktive Vo
 rsteher und&nbsp;abkömmliche Diakone.</p>\n
UID:350614@www.nak-nagold.de
LOCATION:Herrenberg
CATEGORIES:Gärtringen,Gäufelden-Öschelbronn,Mötzingen,Gäufelden-Nebringen,Herrenberg,Gottesdienst,Horb,Bezirk (ohne Gemeinden)
X-ORGANIZER:
STATUS:CONFIRMED
CLASS:PUBLIC
DTSTART:20260403T073000Z
DTEND:20260403T073000Z
DTSTAMP:20260421T045549Z
CREATED:20251024T094651Z
LAST-MODIFIED:20260319T162756Z
END:VEVENT
BEGIN:VEVENT
SUMMARY:Gottesdienst des Stammapostels mit Bild-Übertragung aus Karlsru
 he-Mitte
DESCRIPTION:<p>Übertragung Bezirksapostelbereich.</p>\n
UID:358468@www.nak-nagold.de
LOCATION:Übertragungs-Gemeinden
CATEGORIES:Herrenberg,Nagold,Gottesdienst,Jettingen (Württ.),Haiterbach,Horb,Bezirk (ohne Gemeinden),Egenhausen,Altensteig-Spielberg,Gärtringen,Enzklösterle,Gäufelden-Öschelbronn,Ebhausen,Mötzingen,Gäufelden-Nebringen,Altensteig,Simmersfeld,Pfalzgrafenweiler,Nufringen
X-ORGANIZER:
STATUS:CONFIRMED
CLASS:PUBLIC
DTSTART:20260621T080000Z
DTEND:20260621T080000Z
DTSTAMP:20260421T045549Z
CREATED:20260202T130749Z
LAST-MODIFIED:20260202T130824Z
END:VEVENT
BEGIN:VEVENT
SUMMARY:Gottesdienst des Stammapostels mit Bild-Übertragung aus Albstad
 t
DESCRIPTION:<p>Übertragung Bezirksapostelbereich.</p>\n
UID:358469@www.nak-nagold.de
LOCATION:Übertragungs-Gemeinden
CATEGORIES:Enzklösterle,Gärtringen,Gäufelden-Öschelbronn,Ebhausen,Egenhausen,Altensteig-Spielberg,Gäufelden-Nebringen,Pfalzgrafenweiler,Simmersfeld,Altensteig,Nufringen,Mötzingen,Nagold,Herrenberg,Jettingen (Württ.),Haiterbach,Bezirk (ohne Gemeinden),Horb,Gottesdienst
X-ORGANIZER:
STATUS:CONFIRMED
CLASS:PUBLIC
DTSTART:20260726T080000Z
DTEND:20260726T080000Z
DTSTAMP:20260421T045549Z
CREATED:20260202T130851Z
LAST-MODIFIED:20260202T130911Z
END:VEVENT
BEGIN:VEVENT
SUMMARY:Gottesdienst des Stammapostels mit Bild-Übertragung aus Tuttlin
 gen
DESCRIPTION:<p>Gottesdienst für Entschlafene an Allerheiligen.<br />\n
 Übertragung Bezirksapostelbereich Europa</p>\n
UID:358470@www.nak-nagold.de
LOCATION:Übertragungs-Gemeinden
CATEGORIES:Altensteig-Spielberg,Egenhausen,Gäufelden-Öschelbronn,Ebhausen,Enzklösterle,Gärtringen,Mötzingen,Nufringen,Simmersfeld,Gäufelden-Nebringen,Altensteig,Pfalzgrafenweiler,Herrenberg,Nagold,Gottesdienst,Bezirk (ohne Gemeinden),Horb,Haiterbach,Jettingen (Württ.)
X-ORGANIZER:
STATUS:CONFIRMED
CLASS:PUBLIC
DTSTART:20261101T090000Z
DTEND:20261101T090000Z
DTSTAMP:20260421T045549Z
CREATED:20260202T131123Z
LAST-MODIFIED:20260202T131215Z
END:VEVENT
BEGIN:VEVENT
SUMMARY:Andacht zu Ostern
DESCRIPTION:<p>Unter dem Motto: „Innehalten in der Passionszeit“&nbs
 p;findet am Samstag, dem 28. März um 17 Uhr in der Kirche in Nagold ei
 ne Andacht zu Ostern mit dem Osterspiel „Jesus lebt!“ statt.<br />\
 nDie Kinder und Jugendlichen der Gemeinde Nagold beschreiben die Statio
 nen Jesu vom Einzug in Jerusalem bis zur frohen Botschaft des Osterfest
 es.<br />\n<br />\nAm Abend des Gründonnerstag, den 02. April, findet 
 um 19 Uhr eine Konzertandacht des Projektchores der Gemeinde Nagold sta
 tt.<br />\n<br />\nHerzliche Einladung an alle!</p>\n
UID:361234@www.nak-nagold.de
LOCATION:Nagold
CATEGORIES:Bezirk (und alle Gemeinden),Kinder,Jugend
X-ORGANIZER:
STATUS:CONFIRMED
CLASS:PUBLIC
DTSTART:20260328T160000Z
DTEND:20260328T160000Z
DTSTAMP:20260421T045549Z
CREATED:20260315T122454Z
LAST-MODIFIED:20260315T122947Z
END:VEVENT
BEGIN:VEVENT
SUMMARY:Konzertandacht am Gründonnerstag
DESCRIPTION:<p>Am Abend des Gründonnerstag, den 02. April, findet um 19
  Uhr in der Kirche in Nagold eine Konzertandacht des Projektchores der 
 Gemeinde Nagold statt.<br />\n<br />\nHerzliche Einladung an alle!</p>\
 n
UID:361235@www.nak-nagold.de
LOCATION:Nagold
CATEGORIES:Kinder,Bezirk (und alle Gemeinden),Jugend
X-ORGANIZER:
STATUS:CONFIRMED
CLASS:PUBLIC
DTSTART:20260402T170000Z
DTEND:20260402T170000Z
DTSTAMP:20260421T045549Z
CREATED:20260315T123043Z
LAST-MODIFIED:20260315T123248Z
END:VEVENT
END:VCALENDAR
